BEGIN:VCALENDAR
PRODID:-//Cornell Cooperative Extension of Delaware County//NONSGML Cornell Cooperative Extension of Delaware County Events//EN
X-ORIGINAL-URL:
VERSION:2.0
CALSCALE:GREGORIAN
METHOD:PUBLISH
BEGIN:VEVENT
METHOD: PUBLISH
X-MS-OLK-FORCEINSPECTOROPEN:TRUE
DTSTART:20260527T170500
DTEND:20260527T190700
SUMMARY:Jamming with CCE
DTSTAMP:20110121T170000
LAST-MODIFIED:20260331T170537
CREATED:20260327T140220
SEQUENCE:0
TRANSP:TRANSPARENT
UID:32787
LOCATION:
URL:http://ccedelaware.org/events/2026/05/27/jamming-with-cce
DESCRIPTION:Join CCEDC for a hands-on Jam Making Workshop!Learn the basics of boil water bath canning while making delicious strawberry jam. Participants will explore safe canning principles and learn how to prepare both full-sugar and low-sugar jam options.Perfect for beginners or anyone looking to build confidence in home food preservation.Register by scanning the QR code or link below
CLASS:PUBLIC
CATEGORIES:
STATUS:CONFIRMED
END:VEVENT
END:VCALENDAR
n/a