BEGIN:VCALENDAR
PRODID:-//Cornell Cooperative Extension of Delaware County//NONSGML Cornell Cooperative Extension of Delaware County Events//EN
X-ORIGINAL-URL:
VERSION:2.0
CALSCALE:GREGORIAN
METHOD:PUBLISH
BEGIN:VEVENT
METHOD: PUBLISH
X-MS-OLK-FORCEINSPECTOROPEN:TRUE
DTSTART:20260527T180600
DTEND:20260527T200800
SUMMARY:4-H Stars, Stripes &amp; Stories: Book Art Workshop
DTSTAMP:20110121T170000
LAST-MODIFIED:20260414T140234
CREATED:20260408T111142
SEQUENCE:0
TRANSP:TRANSPARENT
UID:32906
LOCATION:
URL:http://ccedelaware.org/events/2026/05/27/4-h-stars-stripes-stories-book-art-workshop
DESCRIPTION:As part of our year-long semi quincentennial celebration, this workshop invites youth to unleash their creativity through the art of book folding. Guided by talented 4-H volunteers Heather and Deb Merrill, participants will transform recycled books into striking works of art featuring American symbols such as an eagle and flag. Along the way, youth will build patience, precision, and an appreciation for artistic expression. Please register at link provided.
CLASS:PUBLIC
CATEGORIES:
STATUS:CONFIRMED
END:VEVENT
END:VCALENDAR
n/a