BEGIN:VCALENDAR
PRODID:-//Cornell Cooperative Extension of Delaware County//NONSGML Cornell Cooperative Extension of Delaware County Events//EN
X-ORIGINAL-URL:
VERSION:2.0
CALSCALE:GREGORIAN
METHOD:PUBLISH
BEGIN:VEVENT
METHOD: PUBLISH
X-MS-OLK-FORCEINSPECTOROPEN:TRUE
DTSTART:20260508T111100
DTEND:20260508T130100
SUMMARY:Energy Literacy Workshop @ Deposit Village Hall 
DTSTAMP:20110121T170000
LAST-MODIFIED:20260418T150329
CREATED:20260416T121234
SEQUENCE:0
TRANSP:TRANSPARENT
UID:32953
LOCATION:
URL:http://ccedelaware.org/events/2026/05/08/energy-literacy-workshop-deposit-village-hall
DESCRIPTION:
CLASS:PUBLIC
CATEGORIES:
STATUS:CONFIRMED
END:VEVENT
END:VCALENDAR
n/a