BEGIN:VCALENDAR
PRODID:-//Cornell Cooperative Extension of Delaware County//NONSGML Cornell Cooperative Extension of Delaware County Events//EN
X-ORIGINAL-URL:
VERSION:2.0
CALSCALE:GREGORIAN
METHOD:PUBLISH
BEGIN:VEVENT
METHOD: PUBLISH
X-MS-OLK-FORCEINSPECTOROPEN:TRUE
DTSTART:20260425T130100
DTEND:20260425T170500
SUMMARY:**Cancelled**  Blown Away: 4-H Teen Council Trip to Corning Museum of Glass
DTSTAMP:20110121T170000
LAST-MODIFIED:20260422T101047
CREATED:20260325T101040
SEQUENCE:0
TRANSP:TRANSPARENT
UID:32755
LOCATION:
URL:http://ccedelaware.org/events/2026/04/25/-cancelled-blown-away-4-h-teen-council-trip-to-corning-museum-of-glass
DESCRIPTION:Join fellow 4-H teens for an exciting day at the Corning Museum of Glass! This hands-on experience will include a live glassblowing demonstration, the chance to create your own glass project, and a guided tour through the museum’s incredible exhibits showcasing art, science, and history. It’s a great opportunity to learn by doing, explore a world-class museum, and enjoy time together with other teens. We need 10 teens to make this trip a go, so please register by April 11th or the trip will be cancelled. Transportation from the Hamden will be available, max seating available is 5 teens. Cost is $10 to attend and please bring a non-perishable food item for our year-long 4-H Teen Council Food Drive! Please register by April 11th at link provided.
CLASS:PUBLIC
CATEGORIES:
STATUS:CONFIRMED
END:VEVENT
END:VCALENDAR
n/a